BEGIN:VCALENDAR
VERSION:2.0
PRODID:-//Παραμυθοκαμώματα - ECPv6.15.20//NONSGML v1.0//EN
CALSCALE:GREGORIAN
METHOD:PUBLISH
X-WR-CALNAME:Παραμυθοκαμώματα
X-ORIGINAL-URL:http://www.paramithokamomata.gr
X-WR-CALDESC:Events for Παραμυθοκαμώματα
REFRESH-INTERVAL;VALUE=DURATION:PT1H
X-Robots-Tag:noindex
X-PUBLISHED-TTL:PT1H
BEGIN:VTIMEZONE
TZID:Europe/Helsinki
BEGIN:DAYLIGHT
TZOFFSETFROM:+0200
TZOFFSETTO:+0300
TZNAME:EEST
DTSTART:20160327T010000
END:DAYLIGHT
BEGIN:STANDARD
TZOFFSETFROM:+0300
TZOFFSETTO:+0200
TZNAME:EET
DTSTART:20161030T010000
END:STANDARD
BEGIN:DAYLIGHT
TZOFFSETFROM:+0200
TZOFFSETTO:+0300
TZNAME:EEST
DTSTART:20170326T010000
END:DAYLIGHT
BEGIN:STANDARD
TZOFFSETFROM:+0300
TZOFFSETTO:+0200
TZNAME:EET
DTSTART:20171029T010000
END:STANDARD
BEGIN:DAYLIGHT
TZOFFSETFROM:+0200
TZOFFSETTO:+0300
TZNAME:EEST
DTSTART:20180325T010000
END:DAYLIGHT
BEGIN:STANDARD
TZOFFSETFROM:+0300
TZOFFSETTO:+0200
TZNAME:EET
DTSTART:20181028T010000
END:STANDARD
BEGIN:DAYLIGHT
TZOFFSETFROM:+0200
TZOFFSETTO:+0300
TZNAME:EEST
DTSTART:20190331T010000
END:DAYLIGHT
BEGIN:STANDARD
TZOFFSETFROM:+0300
TZOFFSETTO:+0200
TZNAME:EET
DTSTART:20191027T010000
END:STANDARD
END:VTIMEZONE
BEGIN:VEVENT
DTSTART;TZID=Europe/Helsinki:20180214T210000
DTEND;TZID=Europe/Helsinki:20180214T223000
DTSTAMP:20260423T135035
CREATED:20180216T183754Z
LAST-MODIFIED:20180216T183754Z
UID:337-1518642000-1518647400@www.paramithokamomata.gr
SUMMARY:Αχ\, ο έρωτας!
DESCRIPTION:Αχ\, ο έρωτας! \n \nΚι αν είναι ο έρωτας βαρύς\, σεκλέτια κι αν ορίζει \nτον πόνο αυτόν τον αψηφά\, κανέναν δεν φοβίζει \nκοντά του άντρες θέριεψαν\, γυναίκες αντρωθήκαν \nγιατί ειν γλυκός\, είναι ζεστός\, μέσα στις πίκρες θαμαστός \n (περισσότερα…) \n\n(παράσταση για ενήλικες) \n 
URL:http://www.paramithokamomata.gr/event/%ce%b1%cf%87-%ce%bf-%ce%ad%cf%81%cf%89%cf%84%ce%b1%cf%82-2/
END:VEVENT
BEGIN:VEVENT
DTSTART;VALUE=DATE:20180213
DTEND;VALUE=DATE:20180214
DTSTAMP:20260423T135035
CREATED:20180124T210059Z
LAST-MODIFIED:20180124T210059Z
UID:307-1518480000-1518566399@www.paramithokamomata.gr
SUMMARY:Σκυταλοδρομία Παραμυθιού
DESCRIPTION:Πρόγραμμα αφήγησης και δημιουργίας παραμυθιού για τα Δημοτικά Σχολεία του Δήμου Ωρωπού σε συνεργασία με το Νομικό Πρόσωπο Πολιτισμού του Δήμου
URL:http://www.paramithokamomata.gr/event/%cf%83%ce%ba%cf%85%cf%84%ce%b1%ce%bb%ce%bf%ce%b4%cf%81%ce%bf%ce%bc%ce%af%ce%b1-%cf%80%ce%b1%cf%81%ce%b1%ce%bc%cf%85%ce%b8%ce%b9%ce%bf%cf%8d-6/
LOCATION:Δημοτικά Σχολεία Δήμου Ωρωπού\, Ωρωπός
END:VEVENT
BEGIN:VEVENT
DTSTART;VALUE=DATE:20180206
DTEND;VALUE=DATE:20180207
DTSTAMP:20260423T135035
CREATED:20180124T205657Z
LAST-MODIFIED:20180124T205725Z
UID:303-1517875200-1517961599@www.paramithokamomata.gr
SUMMARY:Σκυταλοδρομία Παραμυθιού
DESCRIPTION:Πρόγραμμα αφήγησης και δημιουργίας παραμυθιού για τα Δημοτικά Σχολεία του Δήμου Ωρωπού σε συνεργασία με το Νομικό Πρόσωπο Πολιτισμού του Δήμου
URL:http://www.paramithokamomata.gr/event/%cf%83%ce%ba%cf%85%cf%84%ce%b1%ce%bb%ce%bf%ce%b4%cf%81%cf%8c%ce%bc%ce%af%ce%b1-%cf%80%ce%b1%cf%81%ce%b1%ce%bc%cf%85%ce%b8%ce%b9%ce%bf%cf%8d/
LOCATION:Δημοτικά Σχολεία Δήμου Ωρωπού\, Ωρωπός
END:VEVENT
BEGIN:VEVENT
DTSTART;TZID=Europe/Helsinki:20180204T200000
DTEND;TZID=Europe/Helsinki:20180204T200000
DTSTAMP:20260423T135035
CREATED:20180124T203253Z
LAST-MODIFIED:20180124T203253Z
UID:282-1517774400-1517774400@www.paramithokamomata.gr
SUMMARY:Αχ\, ο έρωτας!
DESCRIPTION:Αχ\, ο έρωτας! \n \nΚι αν είναι ο έρωτας βαρύς\, σεκλέτια κι αν ορίζει \nτον πόνο αυτόν τον αψηφά\, κανέναν δεν φοβίζει \nκοντά του άντρες θέριεψαν\, γυναίκες αντρωθήκαν \nγιατί ειν γλυκός\, είναι ζεστός\, μέσα στις πίκρες θαμαστός \n (περισσότερα…) \n\n(παράσταση για ενήλικες) \n 
URL:http://www.paramithokamomata.gr/event/%ce%b1%cf%87-%ce%bf-%ce%ad%cf%81%cf%89%cf%84%ce%b1%cf%82/
LOCATION:Χώρος Τέχνης Ιδιόμελο\, Ελευθερίου Βενιζέλου 17 και Β. Κωνσταντίνου\, Μαρούσι\, 15122
END:VEVENT
BEGIN:VEVENT
DTSTART;TZID=Europe/Helsinki:20180128T180000
DTEND;TZID=Europe/Helsinki:20180128T180000
DTSTAMP:20260423T135035
CREATED:20180124T202646Z
LAST-MODIFIED:20180124T202646Z
UID:280-1517162400-1517162400@www.paramithokamomata.gr
SUMMARY:Παραμυθοκαμώματα
DESCRIPTION:Παραμυθοκαμώματα \nΕίσοδος: Δωρεάν
URL:http://www.paramithokamomata.gr/event/%cf%80%ce%b1%cf%81%ce%b1%ce%bc%cf%85%ce%b8%ce%bf%ce%ba%ce%b1%ce%bc%cf%8e%ce%bc%ce%b1%cf%84%ce%b1/
LOCATION:Πνευματικό Κέντρο Καλάμου\, Κάλαμος
END:VEVENT
BEGIN:VEVENT
DTSTART;VALUE=DATE:20180126
DTEND;VALUE=DATE:20180127
DTSTAMP:20260423T135035
CREATED:20180124T202020Z
LAST-MODIFIED:20180124T202020Z
UID:275-1516924800-1517011199@www.paramithokamomata.gr
SUMMARY:Λέξη Λέξη είσαι εδώ;
DESCRIPTION:Λέξη λέξη είσαι εδώ; \nγια παιδιά 6+ \nΕκπαιδευτικό πρόγραμμα αφήγησης για την ιστορία των λέξεων\, της γραφής\, των παραμυθιών \nΣτην αρχή ήταν το χάος. Και η Γη μια μεγάλη φωτιά που γύριζε μέσα στο χάος. Σιγά σιγά όμως πήρε τη μορφή που έχει σήμερα κι όταν οι πρώτοι άνθρωποι εμφανίστηκαν\, ήξεραν να σκέφτονται και να μιλάνε. Μα όσα γνωρίζανε θέλανε να τα σώσουνε….. \n (περισσότερα…) \n\n(κλειστή εκδήλωση)
URL:http://www.paramithokamomata.gr/event/%ce%bb%ce%ad%ce%be%ce%b7-%ce%bb%ce%ad%ce%be%ce%b7-%ce%b5%ce%af%cf%83%ce%b1%ce%b9-%ce%b5%ce%b4%cf%8e/
LOCATION:6ο Δημοτικό Σχολείο Κορυδαλλού
END:VEVENT
BEGIN:VEVENT
DTSTART;TZID=Europe/Helsinki:20171230T183000
DTEND;TZID=Europe/Helsinki:20171230T183000
DTSTAMP:20260423T135035
CREATED:20171201T144351Z
LAST-MODIFIED:20171211T105637Z
UID:179-1514658600-1514658600@www.paramithokamomata.gr
SUMMARY:Νιφάδες από όνειρα κλωστές παραμυθένιες
DESCRIPTION:Νιφάδες από Όνειρα\, Κλωστές Παραμυθένιες \nΑφήγηση Παραμυθιών με Ζωντανή Μουσική \nΛένε πως όταν χορεύεις\, ταξιδεύεις σε κόσμους μαγικούς. Κι ίσως τούτο να ήταν αληθινό για εκείνες τις βασιλοπούλες\, που κάποια Χριστούγεννα αποφάσισαν να ζήσουν λίγο διαφορετικά. Γοβάκια που λιώναν\, πρίγκιπες από μακριά καλούν την αλήθεια για να βρουν. Μα οι ιστορίες που τούτοι ακούν\, αφορμή θα σταθούν γλυκά να αποκοιμηθούν. \n (περισσότερα…) \n\nΟμάδα: Χείλια λένε παραμύθια\nΜουσική: Γιάννης Ανθόπουλος \nΕίσοδος: 10€
URL:http://www.paramithokamomata.gr/event/%ce%bd%ce%b9%cf%86%ce%ac%ce%b4%ce%b5%cf%82-%ce%b1%cf%80%cf%8c-%cf%8c%ce%bd%ce%b5%ce%b9%cf%81%ce%b1-%ce%ba%ce%bb%cf%89%cf%83%cf%84%ce%ad%cf%82-%cf%80%ce%b1%cf%81%ce%b1%ce%bc%cf%85%ce%b8%ce%ad%ce%bd-4/
LOCATION:Half Note Jazz Club\, Τριβωνιανού 17\, Αθήνα\, 11636
END:VEVENT
BEGIN:VEVENT
DTSTART;TZID=Europe/Helsinki:20171229T183000
DTEND;TZID=Europe/Helsinki:20171229T183000
DTSTAMP:20260423T135035
CREATED:20171201T145944Z
LAST-MODIFIED:20171209T112944Z
UID:194-1514572200-1514572200@www.paramithokamomata.gr
SUMMARY:Το αγόρι που φυσούσε όνειρα
DESCRIPTION:To αγόρι που έφτιαχνε όνειρα \nΈνας φυσητής ονείρων πραγματοποιεί τα όνειρα των παιδιών\, μ’αυτό σε κάποιους δεν αρέσει. Όμως τα παιδιά έχουν τη δύναμη να τον σώσουν. Μία συγκινητική ιστορία για ένα αγόρι ξεχωριστό που θα πλάσει τρία ξεχωριστά όνειρα: να ναι τα Χριστούγεννα κάθε μέρα\, μία χάρτινη φασαριόζικη φάτνη κι έναν Δεκέμβρη που ήταν κάποτε κι αυτός παιδί. \n (περισσότερα…) \n\nΑφήγηση: Βιργινία Κοκκίνου\nΜουσική: Γιάννης Ανθόπουλος \nΕίσοδος: 6€
URL:http://www.paramithokamomata.gr/event/%cf%84%ce%bf-%ce%b1%ce%b3%cf%8c%cf%81%ce%b9-%cf%80%ce%bf%cf%85-%cf%86%cf%85%cf%83%ce%bf%cf%8d%cf%83%ce%b5-%cf%8c%ce%bd%ce%b5%ce%b9%cf%81%ce%b1-2/
LOCATION:Show What?\, Πλ. Μεσολογγίου 6\, Παγκράτι\, 11634
END:VEVENT
BEGIN:VEVENT
DTSTART;TZID=Europe/Helsinki:20171228T113000
DTEND;TZID=Europe/Helsinki:20171228T113000
DTSTAMP:20260423T135035
CREATED:20171201T145701Z
LAST-MODIFIED:20171209T112832Z
UID:191-1514460600-1514460600@www.paramithokamomata.gr
SUMMARY:Νιφάδες από όνειρα κλωστές παραμυθένιες
DESCRIPTION:Νιφάδες από Όνειρα\, Κλωστές Παραμυθένιες \nΑφήγηση Παραμυθιών με Ζωντανή Μουσική \nΛένε πως όταν χορεύεις\, ταξιδεύεις σε κόσμους μαγικούς. Κι ίσως τούτο να ήταν αληθινό για εκείνες τις βασιλοπούλες\, που κάποια Χριστούγεννα αποφάσισαν να ζήσουν λίγο διαφορετικά. Γοβάκια που λιώναν\, πρίγκιπες από μακριά καλούν την αλήθεια για να βρουν. Μα οι ιστορίες που τούτοι ακούν\, αφορμή θα σταθούν γλυκά να αποκοιμηθούν. \n (περισσότερα…) \n\nΟμάδα: Χείλια λένε παραμύθια\nΜουσική: Γιάννης Ανθόπουλος \nΕίσοδος: Δωρεάν
URL:http://www.paramithokamomata.gr/event/%ce%bd%ce%b9%cf%86%ce%ac%ce%b4%ce%b5%cf%82-%ce%b1%cf%80%cf%8c-%cf%8c%ce%bd%ce%b5%ce%b9%cf%81%ce%b1-%ce%ba%ce%bb%cf%89%cf%83%cf%84%ce%ad%cf%82-%cf%80%ce%b1%cf%81%ce%b1%ce%bc%cf%85%ce%b8%ce%ad%ce%bd-9/
LOCATION:Μουσείο Λαϊκής Τέχνης και Παράδοσης «Αγγελική Χατζημιχάλη»\, Αγγελικής Χατζημιχάλη 6\, Πλάκα\, 10558
END:VEVENT
BEGIN:VEVENT
DTSTART;TZID=Europe/Helsinki:20171227T180000
DTEND;TZID=Europe/Helsinki:20171227T180000
DTSTAMP:20260423T135035
CREATED:20171201T145048Z
LAST-MODIFIED:20171209T112836Z
UID:188-1514397600-1514397600@www.paramithokamomata.gr
SUMMARY:Νιφάδες από όνειρα κλωστές παραμυθένιες
DESCRIPTION:Νιφάδες από Όνειρα\, Κλωστές Παραμυθένιες \nΑφήγηση Παραμυθιών με Ζωντανή Μουσική \nΛένε πως όταν χορεύεις\, ταξιδεύεις σε κόσμους μαγικούς. Κι ίσως τούτο να ήταν αληθινό για εκείνες τις βασιλοπούλες\, που κάποια Χριστούγεννα αποφάσισαν να ζήσουν λίγο διαφορετικά. Γοβάκια που λιώναν\, πρίγκιπες από μακριά καλούν την αλήθεια για να βρουν. Μα οι ιστορίες που τούτοι ακούν\, αφορμή θα σταθούν γλυκά να αποκοιμηθούν. \n (περισσότερα…) \n\nΟμάδα: Χείλια λένε παραμύθια\nΜουσική: Γιάννης Ανθόπουλος \nΕίσοδος:\nΠαιδιά 7€\nΕνήλικες 5€
URL:http://www.paramithokamomata.gr/event/%ce%bd%ce%b9%cf%86%ce%ac%ce%b4%ce%b5%cf%82-%ce%b1%cf%80%cf%8c-%cf%8c%ce%bd%ce%b5%ce%b9%cf%81%ce%b1-%ce%ba%ce%bb%cf%89%cf%83%cf%84%ce%ad%cf%82-%cf%80%ce%b1%cf%81%ce%b1%ce%bc%cf%85%ce%b8%ce%ad%ce%bd-8/
LOCATION:Χείρωνας\, 19 χλμ Λ. Αθηνών - Λαυρίου\, Παιανία\, 19002
END:VEVENT
BEGIN:VEVENT
DTSTART;TZID=Europe/Helsinki:20171227T110000
DTEND;TZID=Europe/Helsinki:20171227T110000
DTSTAMP:20260423T135035
CREATED:20171202T232509Z
LAST-MODIFIED:20171209T113009Z
UID:212-1514372400-1514372400@www.paramithokamomata.gr
SUMMARY:Λέξη λεξη είσαι εδώ;
DESCRIPTION:Λέξη λέξη είσαι εδώ; \nγια παιδιά 6+ \nΕκπαιδευτικό πρόγραμμα αφήγησης για την ιστορία των λέξεων\, της γραφής\, των παραμυθιών \nΣτην αρχή ήταν το χάος. Και η Γη μια μεγάλη φωτιά που γύριζε μέσα στο χάος. Σιγά σιγά όμως πήρε τη μορφή που έχει σήμερα κι όταν οι πρώτοι άνθρωποι εμφανίστηκαν\, ήξεραν να σκέφτονται και να μιλάνε. Μα όσα γνωρίζανε θέλανε να τα σώσουνε….. \n (περισσότερα…) \n\nΔιοργάνωση Πολιτιστικός Σύλλογος Σκάλας Ωρωπού \nΕίσοδος: Δωρεάν
URL:http://www.paramithokamomata.gr/event/%ce%bb%ce%ad%ce%be%ce%b7-%ce%bb%ce%b5%ce%be%ce%b7-%ce%b5%ce%af%cf%83%ce%b1%ce%b9-%ce%b5%ce%b4%cf%8e/
LOCATION:Αίθουσα εκδηλώσεων 1ου Δημοτικού Σχολείου Σκάλας και Ν. Παλατίων Ωρωπού\, Ωρωπός
END:VEVENT
BEGIN:VEVENT
DTSTART;TZID=Europe/Helsinki:20171223T183000
DTEND;TZID=Europe/Helsinki:20171223T183000
DTSTAMP:20260423T135035
CREATED:20171201T144310Z
LAST-MODIFIED:20171211T105642Z
UID:177-1514053800-1514053800@www.paramithokamomata.gr
SUMMARY:Νιφάδες από όνειρα κλωστές παραμυθένιες
DESCRIPTION:Νιφάδες από Όνειρα\, Κλωστές Παραμυθένιες \nΑφήγηση Παραμυθιών με Ζωντανή Μουσική \nΛένε πως όταν χορεύεις\, ταξιδεύεις σε κόσμους μαγικούς. Κι ίσως τούτο να ήταν αληθινό για εκείνες τις βασιλοπούλες\, που κάποια Χριστούγεννα αποφάσισαν να ζήσουν λίγο διαφορετικά. Γοβάκια που λιώναν\, πρίγκιπες από μακριά καλούν την αλήθεια για να βρουν. Μα οι ιστορίες που τούτοι ακούν\, αφορμή θα σταθούν γλυκά να αποκοιμηθούν. \n (περισσότερα…) \n\nΟμάδα: Χείλια λένε παραμύθια\nΜουσική: Γιάννης Ανθόπουλος \nΕίσοδος: 10€
URL:http://www.paramithokamomata.gr/event/%ce%bd%ce%b9%cf%86%ce%ac%ce%b4%ce%b5%cf%82-%ce%b1%cf%80%cf%8c-%cf%8c%ce%bd%ce%b5%ce%b9%cf%81%ce%b1-%ce%ba%ce%bb%cf%89%cf%83%cf%84%ce%ad%cf%82-%cf%80%ce%b1%cf%81%ce%b1%ce%bc%cf%85%ce%b8%ce%ad%ce%bd-3/
LOCATION:Half Note Jazz Club\, Τριβωνιανού 17\, Αθήνα\, 11636
END:VEVENT
BEGIN:VEVENT
DTSTART;TZID=Europe/Helsinki:20171222T183000
DTEND;TZID=Europe/Helsinki:20171222T183000
DTSTAMP:20260423T135035
CREATED:20171201T144719Z
LAST-MODIFIED:20171209T112839Z
UID:185-1513967400-1513967400@www.paramithokamomata.gr
SUMMARY:Νιφάδες από όνειρα κλωστές παραμυθένιες
DESCRIPTION:Νιφάδες από Όνειρα\, Κλωστές Παραμυθένιες \nΑφήγηση Παραμυθιών με Ζωντανή Μουσική \nΛένε πως όταν χορεύεις\, ταξιδεύεις σε κόσμους μαγικούς. Κι ίσως τούτο να ήταν αληθινό για εκείνες τις βασιλοπούλες\, που κάποια Χριστούγεννα αποφάσισαν να ζήσουν λίγο διαφορετικά. Γοβάκια που λιώναν\, πρίγκιπες από μακριά καλούν την αλήθεια για να βρουν. Μα οι ιστορίες που τούτοι ακούν\, αφορμή θα σταθούν γλυκά να αποκοιμηθούν. \n (περισσότερα…) \n\nΟμάδα: Χείλια λένε παραμύθια\nΜουσική: Γιάννης Ανθόπουλος \nΕίσοδος: Δωρεάν
URL:http://www.paramithokamomata.gr/event/%ce%bd%ce%b9%cf%86%ce%ac%ce%b4%ce%b5%cf%82-%ce%b1%cf%80%cf%8c-%cf%8c%ce%bd%ce%b5%ce%b9%cf%81%ce%b1-%ce%ba%ce%bb%cf%89%cf%83%cf%84%ce%ad%cf%82-%cf%80%ce%b1%cf%81%ce%b1%ce%bc%cf%85%ce%b8%ce%ad%ce%bd-7/
LOCATION:Δήμος Κεφαλλονιάς
END:VEVENT
BEGIN:VEVENT
DTSTART;TZID=Europe/Helsinki:20171221T183000
DTEND;TZID=Europe/Helsinki:20171221T183000
DTSTAMP:20260423T135035
CREATED:20171201T144701Z
LAST-MODIFIED:20171209T112841Z
UID:184-1513881000-1513881000@www.paramithokamomata.gr
SUMMARY:Νιφάδες από όνειρα κλωστές παραμυθένιες
DESCRIPTION:Νιφάδες από Όνειρα\, Κλωστές Παραμυθένιες \nΑφήγηση Παραμυθιών με Ζωντανή Μουσική \nΛένε πως όταν χορεύεις\, ταξιδεύεις σε κόσμους μαγικούς. Κι ίσως τούτο να ήταν αληθινό για εκείνες τις βασιλοπούλες\, που κάποια Χριστούγεννα αποφάσισαν να ζήσουν λίγο διαφορετικά. Γοβάκια που λιώναν\, πρίγκιπες από μακριά καλούν την αλήθεια για να βρουν. Μα οι ιστορίες που τούτοι ακούν\, αφορμή θα σταθούν γλυκά να αποκοιμηθούν. \n (περισσότερα…) \n\nΟμάδα: Χείλια λένε παραμύθια\nΜουσική: Γιάννης Ανθόπουλος \nΕίσοδος: Δωρεάν
URL:http://www.paramithokamomata.gr/event/%ce%bd%ce%b9%cf%86%ce%ac%ce%b4%ce%b5%cf%82-%ce%b1%cf%80%cf%8c-%cf%8c%ce%bd%ce%b5%ce%b9%cf%81%ce%b1-%ce%ba%ce%bb%cf%89%cf%83%cf%84%ce%ad%cf%82-%cf%80%ce%b1%cf%81%ce%b1%ce%bc%cf%85%ce%b8%ce%ad%ce%bd-6/
LOCATION:Δήμος Κεφαλλονιάς
END:VEVENT
BEGIN:VEVENT
DTSTART;TZID=Europe/Helsinki:20171220T183000
DTEND;TZID=Europe/Helsinki:20171220T183000
DTSTAMP:20260423T135035
CREATED:20171201T144609Z
LAST-MODIFIED:20171209T112843Z
UID:181-1513794600-1513794600@www.paramithokamomata.gr
SUMMARY:Νιφάδες από όνειρα κλωστές παραμυθένιες
DESCRIPTION:Νιφάδες από Όνειρα\, Κλωστές Παραμυθένιες \nΑφήγηση Παραμυθιών με Ζωντανή Μουσική \nΛένε πως όταν χορεύεις\, ταξιδεύεις σε κόσμους μαγικούς. Κι ίσως τούτο να ήταν αληθινό για εκείνες τις βασιλοπούλες\, που κάποια Χριστούγεννα αποφάσισαν να ζήσουν λίγο διαφορετικά. Γοβάκια που λιώναν\, πρίγκιπες από μακριά καλούν την αλήθεια για να βρουν. Μα οι ιστορίες που τούτοι ακούν\, αφορμή θα σταθούν γλυκά να αποκοιμηθούν. \n (περισσότερα…) \n\nΟμάδα: Χείλια λένε παραμύθια\nΜουσική: Γιάννης Ανθόπουλος \nΕίσοδος: Δωρεάν
URL:http://www.paramithokamomata.gr/event/%ce%bd%ce%b9%cf%86%ce%ac%ce%b4%ce%b5%cf%82-%ce%b1%cf%80%cf%8c-%cf%8c%ce%bd%ce%b5%ce%b9%cf%81%ce%b1-%ce%ba%ce%bb%cf%89%cf%83%cf%84%ce%ad%cf%82-%cf%80%ce%b1%cf%81%ce%b1%ce%bc%cf%85%ce%b8%ce%ad%ce%bd-5/
LOCATION:Δήμος Κεφαλλονιάς
END:VEVENT
BEGIN:VEVENT
DTSTART;TZID=Europe/Helsinki:20171216T183000
DTEND;TZID=Europe/Helsinki:20171216T183000
DTSTAMP:20260423T135035
CREATED:20171201T143659Z
LAST-MODIFIED:20171211T105647Z
UID:174-1513449000-1513449000@www.paramithokamomata.gr
SUMMARY:Νιφάδες από όνειρα κλωστές παραμυθένιες
DESCRIPTION:Νιφάδες από Όνειρα\, Κλωστές Παραμυθένιες \nΑφήγηση Παραμυθιών με Ζωντανή Μουσική \nΛένε πως όταν χορεύεις\, ταξιδεύεις σε κόσμους μαγικούς. Κι ίσως τούτο να ήταν αληθινό για εκείνες τις βασιλοπούλες\, που κάποια Χριστούγεννα αποφάσισαν να ζήσουν λίγο διαφορετικά. Γοβάκια που λιώναν\, πρίγκιπες από μακριά καλούν την αλήθεια για να βρουν. Μα οι ιστορίες που τούτοι ακούν\, αφορμή θα σταθούν γλυκά να αποκοιμηθούν. \n (περισσότερα…) \n\nΟμάδα: Χείλια λένε παραμύθια\nΜουσική: Γιάννης Ανθόπουλος \nΕίσοδος: 10€
URL:http://www.paramithokamomata.gr/event/%ce%bd%ce%b9%cf%86%ce%ac%ce%b4%ce%b5%cf%82-%ce%b1%cf%80%cf%8c-%cf%8c%ce%bd%ce%b5%ce%b9%cf%81%ce%b1-%ce%ba%ce%bb%cf%89%cf%83%cf%84%ce%ad%cf%82-%cf%80%ce%b1%cf%81%ce%b1%ce%bc%cf%85%ce%b8%ce%ad%ce%bd-2/
LOCATION:Half Note Jazz Club\, Τριβωνιανού 17\, Αθήνα\, 11636
END:VEVENT
BEGIN:VEVENT
DTSTART;TZID=Europe/Helsinki:20171210T120000
DTEND;TZID=Europe/Helsinki:20171210T120000
DTSTAMP:20260423T135035
CREATED:20171130T194903Z
LAST-MODIFIED:20171209T112847Z
UID:158-1512907200-1512907200@www.paramithokamomata.gr
SUMMARY:Νιφάδες από όνειρα κλωστές παραμυθένιες
DESCRIPTION:Νιφάδες από Όνειρα\, Κλωστές Παραμυθένιες \nΑφήγηση Παραμυθιών με Ζωντανή Μουσική \nΛένε πως όταν χορεύεις\, ταξιδεύεις σε κόσμους μαγικούς. Κι ίσως τούτο να ήταν αληθινό για εκείνες τις βασιλοπούλες\, που κάποια Χριστούγεννα αποφάσισαν να ζήσουν λίγο διαφορετικά. Γοβάκια που λιώναν\, πρίγκιπες από μακριά καλούν την αλήθεια για να βρουν. Μα οι ιστορίες που τούτοι ακούν\, αφορμή θα σταθούν γλυκά να αποκοιμηθούν. \n (περισσότερα…) \n\nΟμάδα: Χείλια λένε παραμύθια\nΜουσική: Γιάννης Ανθόπουλος \nΕίσοδος: 8€
URL:http://www.paramithokamomata.gr/event/%ce%bd%ce%b9%cf%86%ce%ac%ce%b4%ce%b5%cf%82-%ce%b1%cf%80%cf%8c-%cf%8c%ce%bd%ce%b5%ce%b9%cf%81%ce%b1-%ce%ba%ce%bb%cf%89%cf%83%cf%84%ce%ad%cf%82-%cf%80%ce%b1%cf%81%ce%b1%ce%bc%cf%85%ce%b8%ce%ad%ce%bd/
LOCATION:ΒΑΒΕΛ\, Βασιλίσσης Σοφίας 87\, Μαρούσι\, 15124
END:VEVENT
BEGIN:VEVENT
DTSTART;TZID=Europe/Helsinki:20171209T170000
DTEND;TZID=Europe/Helsinki:20171209T170000
DTSTAMP:20260423T135035
CREATED:20171201T143213Z
LAST-MODIFIED:20171209T112938Z
UID:170-1512838800-1512838800@www.paramithokamomata.gr
SUMMARY:Το αγόρι που φυσούσε όνειρα
DESCRIPTION:To αγόρι που έφτιαχνε όνειρα \nΈνας φυσητής ονείρων πραγματοποιεί τα όνειρα των παιδιών\, μ’αυτό σε κάποιους δεν αρέσει. Όμως τα παιδιά έχουν τη δύναμη να τον σώσουν. Μία συγκινητική ιστορία για ένα αγόρι ξεχωριστό που θα πλάσει τρία ξεχωριστά όνειρα: να ναι τα Χριστούγεννα κάθε μέρα\, μία χάρτινη φασαριόζικη φάτνη κι έναν Δεκέμβρη που ήταν κάποτε κι αυτός παιδί. \n (περισσότερα…) \n\nΧριστουγεννιάτικη γιορτή \nΑφήγηση: Βιργινια Κοκκίνου\nΜουσική: Γιάννης Ανθόπουλος \nΕίσοδος: Δωρεάν
URL:http://www.paramithokamomata.gr/event/%cf%84%ce%bf-%ce%b1%ce%b3%cf%8c%cf%81%ce%b9-%cf%80%ce%bf%cf%85-%cf%86%cf%85%cf%83%ce%bf%cf%8d%cf%83%ce%b5-%cf%8c%ce%bd%ce%b5%ce%b9%cf%81%ce%b1/
LOCATION:Πνευματικό Κέντρο Καλάμου\, Κάλαμος
END:VEVENT
END:VCALENDAR